Package: chipenrich Version: 2.30.0 Command: /home/biocbuild/R/R/bin/R CMD check --install=check:chipenrich.install-out.txt --library=/home/biocbuild/R/R/site-library --no-vignettes --timings chipenrich_2.30.0.tar.gz StartedAt: 2025-02-04 05:34:04 -0000 (Tue, 04 Feb 2025) EndedAt: 2025-02-04 05:43:46 -0000 (Tue, 04 Feb 2025) EllapsedTime: 581.4 seconds RetCode: 1 Status: ERROR CheckDir: chipenrich.Rcheck Warnings: NA