Package: chipenrich Version: 2.30.0 Command: chmod a+r chipenrich -R && F:\biocbuild\bbs-3.20-bioc\R\bin\R.exe CMD build --keep-empty-dirs --no-resave-data chipenrich StartedAt: 2025-01-27 17:55:52 -0500 (Mon, 27 Jan 2025) EndedAt: 2025-01-27 17:58:06 -0500 (Mon, 27 Jan 2025) EllapsedTime: 133.8 seconds RetCode: 0 Status: OK PackageFile: chipenrich_2.30.0.tar.gz PackageFileSize: 439.4 KiB