Package: chipenrich Version: 2.30.0 Command: /home/biocbuild/bbs-3.20-bioc/R/bin/R CMD check --install=check:chipenrich.install-out.txt --library=/home/biocbuild/bbs-3.20-bioc/R/site-library --timings chipenrich_2.30.0.tar.gz StartedAt: 2025-01-27 21:39:39 -0500 (Mon, 27 Jan 2025) EndedAt: 2025-01-27 21:48:00 -0500 (Mon, 27 Jan 2025) EllapsedTime: 501.5 seconds RetCode: 1 Status: ERROR CheckDir: chipenrich.Rcheck Warnings: NA