Package: chipenrich Version: 2.30.0 Command: /Library/Frameworks/R.framework/Resources/bin/R CMD INSTALL chipenrich StartedAt: 2025-01-27 16:26:57 -0500 (Mon, 27 Jan 2025) EndedAt: 2025-01-27 16:28:26 -0500 (Mon, 27 Jan 2025) EllapsedTime: 89.0 seconds RetCode: 0 Status: OK