Package: chipenrich Version: 2.30.0 Command: /Library/Frameworks/R.framework/Resources/bin/R CMD build --keep-empty-dirs --no-resave-data chipenrich StartedAt: 2025-01-27 17:48:08 -0500 (Mon, 27 Jan 2025) EndedAt: 2025-01-27 17:51:12 -0500 (Mon, 27 Jan 2025) EllapsedTime: 184.5 seconds RetCode: 0 Status: OK PackageFile: chipenrich_2.30.0.tar.gz PackageFileSize: 653.6 KiB