Package: chipenrich Version: 2.30.0 Command: /Library/Frameworks/R.framework/Resources/bin/R CMD INSTALL chipenrich StartedAt: 2025-03-31 17:31:09 -0400 (Mon, 31 Mar 2025) EndedAt: 2025-03-31 17:31:58 -0400 (Mon, 31 Mar 2025) EllapsedTime: 49.2 seconds RetCode: 0 Status: OK