Package: chimeraviz Version: 1.32.0 Command: F:\biocbuild\bbs-3.20-bioc\R\bin\R.exe CMD check --no-multiarch --install=check:chimeraviz.install-out.txt --library=F:\biocbuild\bbs-3.20-bioc\R\library --no-vignettes --timings chimeraviz_1.32.0.tar.gz StartedAt: 2025-01-31 00:25:45 -0500 (Fri, 31 Jan 2025) EndedAt: 2025-01-31 00:38:12 -0500 (Fri, 31 Jan 2025) EllapsedTime: 747.1 seconds RetCode: 0 Status: OK CheckDir: chimeraviz.Rcheck Warnings: 0