Package: chimeraviz Version: 1.32.0 Command: /Library/Frameworks/R.framework/Resources/bin/R CMD check --install=check:chimeraviz.install-out.txt --library=/Library/Frameworks/R.framework/Resources/library --no-vignettes --timings chimeraviz_1.32.0.tar.gz StartedAt: 2025-02-04 01:07:23 -0500 (Tue, 04 Feb 2025) EndedAt: 2025-02-04 01:31:31 -0500 (Tue, 04 Feb 2025) EllapsedTime: 1448.4 seconds RetCode: 0 Status: OK CheckDir: chimeraviz.Rcheck Warnings: 0