Package: chihaya Version: 1.6.0 Command: rm -rf chihaya.buildbin-libdir && mkdir chihaya.buildbin-libdir && /Users/biocbuild/BBS/utils/build-universal.sh chihaya_1.6.0.tar.gz /Library/Frameworks/R.framework/Resources/bin/R chihaya.buildbin-libdir StartedAt: 2025-04-01 11:34:56 -0400 (Tue, 01 Apr 2025) EndedAt: 2025-04-01 11:36:11 -0400 (Tue, 01 Apr 2025) EllapsedTime: 74.7 seconds RetCode: 0 Status: OK PackageFile: chihaya_1.6.0.tgz PackageFileSize: 1.897 MiB