Package: cghMCR Version: 1.64.0 Command: /Library/Frameworks/R.framework/Resources/bin/R CMD build --keep-empty-dirs --no-resave-data cghMCR StartedAt: 2024-11-19 16:15:11 -0500 (Tue, 19 Nov 2024) EndedAt: 2024-11-19 16:16:32 -0500 (Tue, 19 Nov 2024) EllapsedTime: 80.7 seconds RetCode: 0 Status: OK PackageFile: cghMCR_1.64.0.tar.gz PackageFileSize: 36.1 MiB