Package: cfdnakit Version: 1.4.0 Command: F:\biocbuild\bbs-3.20-bioc\R\bin\R.exe CMD INSTALL cfdnakit StartedAt: 2025-03-31 15:46:23 -0400 (Mon, 31 Mar 2025) EndedAt: 2025-03-31 15:46:56 -0400 (Mon, 31 Mar 2025) EllapsedTime: 32.6 seconds RetCode: 0 Status: OK