Package: cfdnakit Version: 1.4.0 Command: /Library/Frameworks/R.framework/Resources/bin/R CMD build --keep-empty-dirs --no-resave-data cfdnakit StartedAt: 2025-03-31 17:33:53 -0400 (Mon, 31 Mar 2025) EndedAt: 2025-03-31 17:35:36 -0400 (Mon, 31 Mar 2025) EllapsedTime: 102.8 seconds RetCode: 0 Status: OK PackageFile: cfdnakit_1.4.0.tar.gz PackageFileSize: 3.021 MiB