Package: cfTools Version: 1.6.0 Command: /home/biocbuild/bbs-3.20-bioc/R/bin/R CMD check --install=check:cfTools.install-out.txt --library=/home/biocbuild/bbs-3.20-bioc/R/site-library --timings cfTools_1.6.0.tar.gz StartedAt: 2025-03-31 20:39:44 -0400 (Mon, 31 Mar 2025) EndedAt: 2025-03-31 20:43:05 -0400 (Mon, 31 Mar 2025) EllapsedTime: 200.2 seconds RetCode: 0 Status: OK CheckDir: cfTools.Rcheck Warnings: 0