Package: cfTools Version: 1.6.0 Command: /Library/Frameworks/R.framework/Resources/bin/R CMD check --install=check:cfTools.install-out.txt --library=/Library/Frameworks/R.framework/Resources/library --no-vignettes --timings cfTools_1.6.0.tar.gz StartedAt: 2025-01-31 01:27:17 -0500 (Fri, 31 Jan 2025) EndedAt: 2025-01-31 01:34:24 -0500 (Fri, 31 Jan 2025) EllapsedTime: 426.8 seconds RetCode: 0 Status: OK CheckDir: cfTools.Rcheck Warnings: 0