Package: cfTools Version: 1.6.0 Command: /Library/Frameworks/R.framework/Resources/bin/R CMD build --keep-empty-dirs --no-resave-data cfTools StartedAt: 2025-01-30 17:50:03 -0500 (Thu, 30 Jan 2025) EndedAt: 2025-01-30 17:53:50 -0500 (Thu, 30 Jan 2025) EllapsedTime: 227.0 seconds RetCode: 0 Status: OK PackageFile: cfTools_1.6.0.tar.gz PackageFileSize: 1.076 MiB