Package: cfTools Version: 1.6.0 Command: /Library/Frameworks/R.framework/Resources/bin/R CMD check --install=check:cfTools.install-out.txt --library=/Library/Frameworks/R.framework/Resources/library --no-vignettes --timings cfTools_1.6.0.tar.gz StartedAt: 2025-04-01 13:44:04 -0400 (Tue, 01 Apr 2025) EndedAt: 2025-04-01 13:48:10 -0400 (Tue, 01 Apr 2025) EllapsedTime: 246.2 seconds RetCode: 0 Status: OK CheckDir: cfTools.Rcheck Warnings: 0