Package: cfTools Version: 1.6.0 Command: /Library/Frameworks/R.framework/Resources/bin/R CMD build --keep-empty-dirs --no-resave-data cfTools StartedAt: 2025-03-31 20:23:17 -0400 (Mon, 31 Mar 2025) EndedAt: 2025-03-31 20:24:52 -0400 (Mon, 31 Mar 2025) EllapsedTime: 94.1 seconds RetCode: 0 Status: OK PackageFile: cfTools_1.6.0.tar.gz PackageFileSize: 1.076 MiB