Package: cfDNAPro Version: 1.12.0 Command: /home/biocbuild/R/R/bin/R CMD build --keep-empty-dirs --no-resave-data cfDNAPro StartedAt: 2025-02-03 22:31:31 -0000 (Mon, 03 Feb 2025) EndedAt: 2025-02-03 22:32:44 -0000 (Mon, 03 Feb 2025) EllapsedTime: 73.0 seconds RetCode: 0 Status: OK PackageFile: cfDNAPro_1.12.0.tar.gz PackageFileSize: 994.8 KiB