Package: cfDNAPro Version: 1.12.0 Command: rm -rf cfDNAPro.buildbin-libdir && mkdir cfDNAPro.buildbin-libdir && F:\biocbuild\bbs-3.20-bioc\R\bin\R.exe CMD INSTALL --build --library=cfDNAPro.buildbin-libdir cfDNAPro_1.12.0.tar.gz StartedAt: 2025-01-28 07:50:05 -0500 (Tue, 28 Jan 2025) EndedAt: 2025-01-28 07:50:53 -0500 (Tue, 28 Jan 2025) EllapsedTime: 47.7 seconds RetCode: 0 Status: OK PackageFile: cfDNAPro_1.12.0.zip PackageFileSize: 803.7 KiB