Package: cfDNAPro Version: 1.12.0 Command: /Library/Frameworks/R.framework/Resources/bin/R CMD check --install=check:cfDNAPro.install-out.txt --library=/Library/Frameworks/R.framework/Resources/library --no-vignettes --timings cfDNAPro_1.12.0.tar.gz StartedAt: 2024-11-19 20:25:06 -0500 (Tue, 19 Nov 2024) EndedAt: 2024-11-19 20:32:02 -0500 (Tue, 19 Nov 2024) EllapsedTime: 415.9 seconds RetCode: 0 Status: WARNINGS CheckDir: cfDNAPro.Rcheck Warnings: 1