Package: cfDNAPro Version: 1.12.0 Command: /Library/Frameworks/R.framework/Resources/bin/R CMD check --install=check:cfDNAPro.install-out.txt --library=/Library/Frameworks/R.framework/Resources/library --no-vignettes --timings cfDNAPro_1.12.0.tar.gz StartedAt: 2024-11-08 22:34:21 -0500 (Fri, 08 Nov 2024) EndedAt: 2024-11-08 22:39:26 -0500 (Fri, 08 Nov 2024) EllapsedTime: 305.0 seconds RetCode: 0 Status: WARNINGS CheckDir: cfDNAPro.Rcheck Warnings: 1