Package: cfDNAPro Version: 1.12.0 Command: /Library/Frameworks/R.framework/Resources/bin/R CMD build --keep-empty-dirs --no-resave-data cfDNAPro StartedAt: 2024-11-08 16:24:45 -0500 (Fri, 08 Nov 2024) EndedAt: 2024-11-08 16:25:05 -0500 (Fri, 08 Nov 2024) EllapsedTime: 20.2 seconds RetCode: 0 Status: OK PackageFile: cfDNAPro_1.12.0.tar.gz PackageFileSize: 1.434 MiB