Package: cfDNAPro Version: 1.12.0 Command: /Library/Frameworks/R.framework/Resources/bin/R CMD INSTALL cfDNAPro StartedAt: 2025-01-27 17:10:20 -0500 (Mon, 27 Jan 2025) EndedAt: 2025-01-27 17:10:59 -0500 (Mon, 27 Jan 2025) EllapsedTime: 38.6 seconds RetCode: 0 Status: OK