Package: cfDNAPro Version: 1.12.0 Command: /Library/Frameworks/R.framework/Resources/bin/R CMD check --install=check:cfDNAPro.install-out.txt --library=/Library/Frameworks/R.framework/Resources/library --no-vignettes --timings cfDNAPro_1.12.0.tar.gz StartedAt: 2025-01-28 13:48:57 -0500 (Tue, 28 Jan 2025) EndedAt: 2025-01-28 13:53:46 -0500 (Tue, 28 Jan 2025) EllapsedTime: 288.1 seconds RetCode: 0 Status: WARNINGS CheckDir: cfDNAPro.Rcheck Warnings: 1