Package: censcyt Version: 1.14.0 Command: /home/biocbuild/R/R/bin/R CMD build --keep-empty-dirs --no-resave-data censcyt StartedAt: 2025-01-27 23:10:12 -0000 (Mon, 27 Jan 2025) EndedAt: 2025-01-27 23:11:53 -0000 (Mon, 27 Jan 2025) EllapsedTime: 101.0 seconds RetCode: 0 Status: OK PackageFile: censcyt_1.14.0.tar.gz PackageFileSize: 400.8 KiB