Package: censcyt Version: 1.14.0 Command: rm -rf censcyt.buildbin-libdir && mkdir censcyt.buildbin-libdir && F:\biocbuild\bbs-3.20-bioc\R\bin\R.exe CMD INSTALL --build --library=censcyt.buildbin-libdir censcyt_1.14.0.tar.gz StartedAt: 2025-01-28 07:49:53 -0500 (Tue, 28 Jan 2025) EndedAt: 2025-01-28 07:50:31 -0500 (Tue, 28 Jan 2025) EllapsedTime: 38.3 seconds RetCode: 0 Status: OK PackageFile: censcyt_1.14.0.zip PackageFileSize: 453.7 KiB