Package: cellxgenedp Version: 1.10.0 Command: /Library/Frameworks/R.framework/Resources/bin/R CMD check --install=check:cellxgenedp.install-out.txt --library=/Library/Frameworks/R.framework/Resources/library --no-vignettes --timings cellxgenedp_1.10.0.tar.gz StartedAt: 2024-11-19 20:23:18 -0500 (Tue, 19 Nov 2024) EndedAt: 2024-11-19 20:28:56 -0500 (Tue, 19 Nov 2024) EllapsedTime: 338.4 seconds RetCode: 0 Status: OK CheckDir: cellxgenedp.Rcheck Warnings: 0