Package: cellscape Version: 1.30.0 Command: /home/biocbuild/bbs-3.20-bioc/R/bin/R CMD check --install=check:cellscape.install-out.txt --library=/home/biocbuild/bbs-3.20-bioc/R/site-library --timings cellscape_1.30.0.tar.gz StartedAt: 2025-03-31 20:36:47 -0400 (Mon, 31 Mar 2025) EndedAt: 2025-03-31 20:37:15 -0400 (Mon, 31 Mar 2025) EllapsedTime: 28.0 seconds RetCode: 0 Status: OK CheckDir: cellscape.Rcheck Warnings: 0