Package: cellscape Version: 1.30.0 Command: /home/biocbuild/bbs-3.20-bioc/R/bin/R CMD build --keep-empty-dirs --no-resave-data --md5 cellscape StartedAt: 2025-01-27 17:31:12 -0500 (Mon, 27 Jan 2025) EndedAt: 2025-01-27 17:31:20 -0500 (Mon, 27 Jan 2025) EllapsedTime: 8.0 seconds RetCode: 0 Status: OK PackageFile: cellscape_1.30.0.tar.gz PackageFileSize: 898.1 KiB