Package: cellscape Version: 1.30.0 Command: rm -rf cellscape.buildbin-libdir && mkdir cellscape.buildbin-libdir && /Users/biocbuild/BBS/utils/build-universal.sh cellscape_1.30.0.tar.gz /Library/Frameworks/R.framework/Resources/bin/R cellscape.buildbin-libdir StartedAt: 2025-04-02 13:39:04 -0400 (Wed, 02 Apr 2025) EndedAt: 2025-04-02 13:39:09 -0400 (Wed, 02 Apr 2025) EllapsedTime: 5.6 seconds RetCode: 0 Status: OK PackageFile: cellscape_1.30.0.tgz PackageFileSize: 884.4 KiB