Package: cellmigRation Version: 1.14.0 Command: /home/biocbuild/R/R/bin/R CMD build --keep-empty-dirs --no-resave-data cellmigRation StartedAt: 2025-01-27 23:08:40 -0000 (Mon, 27 Jan 2025) EndedAt: 2025-01-27 23:11:51 -0000 (Mon, 27 Jan 2025) EllapsedTime: 191.0 seconds RetCode: 0 Status: OK PackageFile: cellmigRation_1.14.0.tar.gz PackageFileSize: 972.5 KiB