Package: cellmigRation Version: 1.14.0 Command: chmod a+r cellmigRation -R && F:\biocbuild\bbs-3.20-bioc\R\bin\R.exe CMD build --keep-empty-dirs --no-resave-data cellmigRation StartedAt: 2025-01-27 17:50:43 -0500 (Mon, 27 Jan 2025) EndedAt: 2025-01-27 17:53:46 -0500 (Mon, 27 Jan 2025) EllapsedTime: 182.2 seconds RetCode: 0 Status: OK PackageFile: cellmigRation_1.14.0.tar.gz PackageFileSize: 928.2 KiB