Package: cellmigRation Version: 1.14.0 Command: /home/biocbuild/bbs-3.20-bioc/R/bin/R CMD INSTALL cellmigRation StartedAt: 2025-01-27 16:44:11 -0500 (Mon, 27 Jan 2025) EndedAt: 2025-01-27 16:44:28 -0500 (Mon, 27 Jan 2025) EllapsedTime: 17.1 seconds RetCode: 0 Status: OK