Package: cellmigRation Version: 1.14.0 Command: /home/biocbuild/bbs-3.20-bioc/R/bin/R CMD check --install=check:cellmigRation.install-out.txt --library=/home/biocbuild/bbs-3.20-bioc/R/site-library --timings cellmigRation_1.14.0.tar.gz StartedAt: 2025-01-27 21:33:14 -0500 (Mon, 27 Jan 2025) EndedAt: 2025-01-27 21:36:54 -0500 (Mon, 27 Jan 2025) EllapsedTime: 220.2 seconds RetCode: 0 Status: OK CheckDir: cellmigRation.Rcheck Warnings: 0