Package: cellmigRation Version: 1.14.0 Command: /home/biocbuild/bbs-3.20-bioc/R/bin/R CMD build --keep-empty-dirs --no-resave-data --md5 cellmigRation StartedAt: 2025-01-27 17:30:54 -0500 (Mon, 27 Jan 2025) EndedAt: 2025-01-27 17:32:59 -0500 (Mon, 27 Jan 2025) EllapsedTime: 125.1 seconds RetCode: 0 Status: OK PackageFile: cellmigRation_1.14.0.tar.gz PackageFileSize: 1.158 MiB