Package: cellmigRation Version: 1.14.0 Command: /Library/Frameworks/R.framework/Resources/bin/R CMD INSTALL cellmigRation StartedAt: 2025-01-27 16:31:11 -0500 (Mon, 27 Jan 2025) EndedAt: 2025-01-27 16:31:48 -0500 (Mon, 27 Jan 2025) EllapsedTime: 37.0 seconds RetCode: 0 Status: OK