Package: cellity Version: 1.34.0 Command: /home/biocbuild/R/R/bin/R CMD build --keep-empty-dirs --no-resave-data cellity StartedAt: 2025-02-10 22:12:23 -0000 (Mon, 10 Feb 2025) EndedAt: 2025-02-10 22:13:52 -0000 (Mon, 10 Feb 2025) EllapsedTime: 89.0 seconds RetCode: 0 Status: OK PackageFile: cellity_1.34.0.tar.gz PackageFileSize: 1.132 MiB