Package: cellity Version: 1.34.0 Command: chmod a+r cellity -R && F:\biocbuild\bbs-3.20-bioc\R\bin\R.exe CMD build --keep-empty-dirs --no-resave-data cellity StartedAt: 2025-02-10 17:54:01 -0500 (Mon, 10 Feb 2025) EndedAt: 2025-02-10 17:55:48 -0500 (Mon, 10 Feb 2025) EllapsedTime: 107.3 seconds RetCode: 0 Status: OK PackageFile: cellity_1.34.0.tar.gz PackageFileSize: 1.071 MiB