Package: cellity Version: 1.34.0 Command: /home/biocbuild/bbs-3.20-bioc/R/bin/R CMD check --install=check:cellity.install-out.txt --library=/home/biocbuild/bbs-3.20-bioc/R/site-library --timings cellity_1.34.0.tar.gz StartedAt: 2025-01-27 21:32:34 -0500 (Mon, 27 Jan 2025) EndedAt: 2025-01-27 21:35:47 -0500 (Mon, 27 Jan 2025) EllapsedTime: 193.2 seconds RetCode: 0 Status: OK CheckDir: cellity.Rcheck Warnings: 0