Package: cellity Version: 1.34.0 Command: /Library/Frameworks/R.framework/Resources/bin/R CMD check --install=check:cellity.install-out.txt --library=/Library/Frameworks/R.framework/Resources/library --no-vignettes --timings cellity_1.34.0.tar.gz StartedAt: 2025-02-11 00:51:54 -0500 (Tue, 11 Feb 2025) EndedAt: 2025-02-11 00:57:06 -0500 (Tue, 11 Feb 2025) EllapsedTime: 311.8 seconds RetCode: 0 Status: OK CheckDir: cellity.Rcheck Warnings: 0