Package: cellbaseR Version: 1.30.0 Command: /home/biocbuild/R/R/bin/R CMD INSTALL cellbaseR StartedAt: 2025-01-27 21:18:23 -0000 (Mon, 27 Jan 2025) EndedAt: 2025-01-27 21:18:42 -0000 (Mon, 27 Jan 2025) EllapsedTime: 18.4 seconds RetCode: 0 Status: OK