Package: celda Version: 1.22.0 Command: /Library/Frameworks/R.framework/Resources/bin/R CMD build --keep-empty-dirs --no-resave-data celda StartedAt: 2025-01-27 17:41:38 -0500 (Mon, 27 Jan 2025) EndedAt: 2025-01-27 17:41:41 -0500 (Mon, 27 Jan 2025) EllapsedTime: 3.3 seconds RetCode: 1 Status: ERROR PackageFile: None PackageFileSize: NA