Package: celaref Version: 1.24.0 Command: /home/biocbuild/R/R/bin/R CMD INSTALL celaref StartedAt: 2025-03-31 20:23:58 -0000 (Mon, 31 Mar 2025) EndedAt: 2025-03-31 20:24:29 -0000 (Mon, 31 Mar 2025) EllapsedTime: 31.8 seconds RetCode: 0 Status: OK