Package: celaref Version: 1.24.0 Command: F:\biocbuild\bbs-3.20-bioc\R\bin\R.exe CMD INSTALL celaref StartedAt: 2025-01-27 16:09:01 -0500 (Mon, 27 Jan 2025) EndedAt: 2025-01-27 16:09:43 -0500 (Mon, 27 Jan 2025) EllapsedTime: 42.0 seconds RetCode: 0 Status: OK