Package: celaref Version: 1.24.0 Command: /Library/Frameworks/R.framework/Resources/bin/R CMD build --keep-empty-dirs --no-resave-data celaref StartedAt: 2025-01-27 17:41:16 -0500 (Mon, 27 Jan 2025) EndedAt: 2025-01-27 17:46:59 -0500 (Mon, 27 Jan 2025) EllapsedTime: 342.7 seconds RetCode: 0 Status: OK PackageFile: celaref_1.24.0.tar.gz PackageFileSize: 3.072 MiB