Package: celaref Version: 1.24.0 Command: /Library/Frameworks/R.framework/Resources/bin/R CMD INSTALL celaref StartedAt: 2025-01-27 15:36:17 -0500 (Mon, 27 Jan 2025) EndedAt: 2025-01-27 15:36:46 -0500 (Mon, 27 Jan 2025) EllapsedTime: 29.3 seconds RetCode: 0 Status: OK