Package: ceRNAnetsim Version: 1.18.0 Command: F:\biocbuild\bbs-3.20-bioc\R\bin\R.exe CMD check --no-multiarch --install=check:ceRNAnetsim.install-out.txt --library=F:\biocbuild\bbs-3.20-bioc\R\library --no-vignettes --timings ceRNAnetsim_1.18.0.tar.gz StartedAt: 2025-03-31 23:54:29 -0400 (Mon, 31 Mar 2025) EndedAt: 2025-03-31 23:57:01 -0400 (Mon, 31 Mar 2025) EllapsedTime: 151.8 seconds RetCode: 0 Status: OK CheckDir: ceRNAnetsim.Rcheck Warnings: 0