Package: ceRNAnetsim Version: 1.18.0 Command: chmod a+r ceRNAnetsim -R && F:\biocbuild\bbs-3.20-bioc\R\bin\R.exe CMD build --keep-empty-dirs --no-resave-data ceRNAnetsim StartedAt: 2025-01-27 17:52:16 -0500 (Mon, 27 Jan 2025) EndedAt: 2025-01-27 17:59:35 -0500 (Mon, 27 Jan 2025) EllapsedTime: 439.4 seconds RetCode: 0 Status: OK PackageFile: ceRNAnetsim_1.18.0.tar.gz PackageFileSize: 2.832 MiB