Package: ccrepe Version: 1.42.0 Command: rm -rf ccrepe.buildbin-libdir && mkdir ccrepe.buildbin-libdir && F:\biocbuild\bbs-3.20-bioc\R\bin\R.exe CMD INSTALL --build --library=ccrepe.buildbin-libdir ccrepe_1.42.0.tar.gz StartedAt: 2025-01-28 07:49:05 -0500 (Tue, 28 Jan 2025) EndedAt: 2025-01-28 07:49:14 -0500 (Tue, 28 Jan 2025) EllapsedTime: 8.7 seconds RetCode: 0 Status: OK PackageFile: ccrepe_1.42.0.zip PackageFileSize: 365.6 KiB