Package: ccmap Version: 1.32.0 Command: /home/biocbuild/R/R/bin/R CMD INSTALL ccmap StartedAt: 2025-01-30 20:20:06 -0000 (Thu, 30 Jan 2025) EndedAt: 2025-01-30 20:20:25 -0000 (Thu, 30 Jan 2025) EllapsedTime: 18.7 seconds RetCode: 0 Status: OK